Workbook

Sheet Teaching Capacity
B1: SCENARIO PLANNER - TEACHING CAPACITY | AC1: Implied Teacher Contact Ratio | AD1: School Time | AE1: Supply Dependency | AF1: Average Class Size | AY1: Published Domain | AZ1: PubX | BA1: PubY | BB1: WhatX | BC1: WhatY | BD1: -1 | BE1: 1.2246468e-16 | BF1: -0.70710678 | BG1: 0.70710678 | BH1: 6.123234e-17 | BI1: 1 | BJ1: 0.70710678 | BK1: 0.70710678
AC2: 0.10322219 | AD2: 30 | AE2: 0.026281365 | AF2: 20.9 | AI2: 0.45 | AY2: 99 | AZ2: 0 | BA2: 0 | BB2: 0 | BC2: 0 | BD2: -0.99922904 | BE2: 0.039259816 | BF2: -0.67880075 | BG2: 0.73432251 | BH2: 0.039259816 | BI2: 0.99922904 | BJ2: 0.73432251 | BK2: 0.67880075
AC3: 0.075404312 | AD3: 32.5 | AE3: 0.017751088 | AF3: 19.5 | AI3: 0.25 | AY3: Q1 | AZ3: =COS(RADIANS(IF($AY$2<$AY$4,180-MAX(0,MIN(1,($AY$2-($AY$4-($AY$6-$AY$4)))/($AY$4-($AY$4-($AY$6-$AY$4)))))*45,IF($AY$2<$AY$6,135-(($AY$2-$AY$4)/($AY$6-$AY$4))*45,IF($AY$2<$AY$8,90-(($AY$2-$AY$6)/($AY$8-$AY$6))*45,45-MAX(0,MIN(1,($AY$2-$AY$8)/(($AY$8+($AY$8-$AY$6))-$AY$8)))*45)))))*0.72 -> -0.21170903 | BA3: =SIN(RADIANS(IF($AY$2<$AY$4,180-MAX(0,MIN(1,($AY$2-($AY$4-($AY$6-$AY$4)))/($AY$4-($AY$4-($AY$6-$AY$4)))))*45,IF($AY$2<$AY$6,135-(($AY$2-$AY$4)/($AY$6-$AY$4))*45,IF($AY$2<$AY$8,90-(($AY$2-$AY$6)/($AY$8-$AY$6))*45,45-MAX(0,MIN(1,($AY$2-$AY$8)/(($AY$8+($AY$8-$AY$6))-$AY$8)))*45)))))*0.72 -> 0.68817097 | BB3: =COS(RADIANS(IF($AY$11<$AY$4,180-MAX(0,MIN(1,($AY$11-($AY$4-($AY$6-$AY$4)))/($AY$4-($AY$4-($AY$6-$AY$4)))))*45,IF($AY$11<$AY$6,135-(($AY$11-$AY$4)/($AY$6-$AY$4))*45,IF($AY$11<$AY$8,90-(($AY$11-$AY$6)/($AY$8-$AY$6))*45,45-MAX(0,MIN(1,($AY$11-$AY$8)/(($AY$8+($AY$8-$AY$6))-$AY$8)))*45)))))*0.72 -> 0.66282313 | BC3: =SIN(RADIANS(IF($AY$11<$AY$4,180-MAX(0,MIN(1,($AY$11-($AY$4-($AY$6-$AY$4)))/($AY$4-($AY$4-($AY$6-$AY$4)))))*45,IF($AY$11<$AY$6,135-(($AY$11-$AY$4)/($AY$6-$AY$4))*45,IF($AY$11<$AY$8,90-(($AY$11-$AY$6)/($AY$8-$AY$6))*45,45-MAX(0,MIN(1,($AY$11-$AY$8)/(($AY$8+($AY$8-$AY$6))-$AY$8)))*45)))))*0.72 -> 0.28118587 | BD3: -0.99691733 | BE3: 0.078459096 | BF3: -0.64944805 | BG3: 0.76040597 | BH3: 0.078459096 | BI3: 0.99691733 | BJ3: 0.76040597 | BK3: 0.64944805
B4: Violet High School TEACHING CAPACITY | L4: Measure | M4: Published | N4: What If | O4: Published Index | P4: What If Index | Q4: Index Change | AC4: 0.12985605 | AD4: 32.75 | AE4: 0.027460682 | AF4: 26.8 | AI4: 0.15 | AY4: 95.9 | BD4: -0.99306846 | BE4: 0.1175374 | BF4: -0.61909395 | BG4: 0.78531693 | BH4: 0.1175374 | BI4: 0.99306846 | BJ4: 0.78531693 | BK4: 0.61909395
AC5: 0.049972452 | AD5: 32.5 | AE5: 0.050151644 | AF5: 24 | AI5: 0.15 | AY5: Q2 | BD5: -0.98768834 | BE5: 0.15643447 | BF5: -0.58778525 | BG5: 0.80901699 | BH5: 0.15643447 | BI5: 0.98768834 | BJ5: 0.80901699 | BK5: 0.58778525
L6: Implied Teacher Contact Ratio | M6: 0.73130166 | N6: =IFERROR(N10/N9, " ") | O6: 94.392523 | P6: =100+((((COUNT($AC$2:$AC$107)+1)+1)/2-(1+COUNTIFS($AC$2:$AC$107,"<>",$AC$2:$AC$107,"<"&ABS(N6-0.78))))/(COUNT($AC$2:$AC$107)+1)*50) -> 124.76636 | Q6: =P6-O6 -> 30.373832 | AC6: 0.028666825 | AD6: 32.5 | AE6: 0.058572371 | AF6: 20.6 | AY6: 100.9 | BD6: -0.98078528 | BE6: 0.19509032 | BF6: -0.55557023 | BG6: 0.83146961 | BH6: 0.19509032 | BI6: 0.98078528 | BJ6: 0.83146961 | BK6: 0.55557023
L7: School Time | M7: 32.5 | N7: 0 | O7: 109.34579 | P7: =100+((((COUNT($AD$2:$AD$107)+1)+1)/2-(1+COUNTIFS($AD$2:$AD$107,"<>",$AD$2:$AD$107,">"&N7)))/(COUNT($AD$2:$AD$107)+1)*50) -> 75.233645 | Q7: =P7-O7 -> -34.11215 | AC7: 0.046429873 | AD7: 32.5 | AE7: 0 | AF7: 19.8 | AY7: Q3 | BD7: -0.97236992 | BE7: 0.23344536 | BF7: -0.52249856 | BG7: 0.85264016 | BH7: 0.23344536 | BI7: 0.97236992 | BJ7: 0.85264016 | BK7: 0.52249856
B8: PUBLISHED INDEX | F8: WHAT IF INDEX | L8: Supply Dependency | M8: 0.060745509 | N8: 0 | O8: 83.64486 | P8: =100+((((COUNT($AE$2:$AE$107)+1)+1)/2-(1+COUNTIFS($AE$2:$AE$107,"<>",$AE$2:$AE$107,"<"&N8)))/(COUNT($AE$2:$AE$107)+1)*50) -> 124.29907 | Q8: =P8-O8 -> 40.654206 | AC8: 0.018515183 | AD8: 32.5 | AE8: 0.0072588071 | AF8: 22 | AY8: 105.9 | BD8: -0.96245524 | BE8: 0.27144045 | BF8: -0.48862124 | BG8: 0.87249601 | BH8: 0.27144045 | BI8: 0.96245524 | BJ8: 0.87249601 | BK8: 0.48862124
L9: Average Class Size | M9: 21 | N9: 0 | O9: 87.850467 | P9: =100+((((COUNT($AF$2:$AF$107)+1)+1)/2-(1+COUNTIFS($AF$2:$AF$107,"<>",$AF$2:$AF$107,">"&N9)))/(COUNT($AF$2:$AF$107)+1)*50) -> 75.233645 | Q9: =P9-O9 -> -12.616822 | AC9: 0.052312766 | AD9: 32.5 | AE9: 0.044698257 | AF9: 22.8 | BD9: -0.95105652 | BE9: 0.30901699 | BF9: -0.4539905 | BG9: 0.89100652 | BH9: 0.30901699 | BI9: 0.95105652 | BJ9: 0.89100652 | BK9: 0.4539905
B10: 99 | F10: =ROUND($AY$11,1) -> 108.3 | L10: Pupil: Teacher Ratio* | M10: ~ | N10: 0 | AC10: 0.042373681 | AD10: 32.5 | AE10: 0.029843447 | AF10: 21.6 | AY10: What If Domain | BD10: -0.93819134 | BE10: 0.34611706 | BF10: -0.41865974 | BG10: 0.90814317 | BH10: 0.34611706 | BI10: 0.93819134 | BJ10: 0.90814317 | BK10: 0.41865974
L11: * Implied Teacher Contact Ratio is calculated by dividing your Pupil:Teacher Ratio by your Average Class Size. Your published 2026 Pupil:Teacher Ratio is already reflected in the published 2026 Implied Teacher Contact Ratio. To test a different scenario, enter your What If Pupil:Teacher Ratio in the yellow input cell. The What If Implied Teacher Contact Ratio will then update automatically. | AC11: 0.0097725579 | AD11: 32.5 | AE11: 0.050583902 | AF11: 22.9 | AY11: =$AY$2+$AI$2*Q6+$AI$3*Q7+$AI$4*Q8+$AI$5*Q9 -> 108.34579 | BD11: -0.92387953 | BE11: 0.38268343 | BF11: -0.38268343 | BG11: 0.92387953 | BH11: 0.38268343 | BI11: 0.92387953 | BJ11: 0.92387953 | BK11: 0.38268343
AC12: 0.069682228 | AD12: 32.5 | AE12: 0.026806122 | AF12: 22.1 | BD12: -0.90814317 | BE12: 0.41865974 | BF12: -0.34611706 | BG12: 0.93819134 | BH12: 0.41865974 | BI12: 0.90814317 | BJ12: 0.93819134 | BK12: 0.34611706
B13: =IF(B10<95.9,"Bottom Quartile",IF(B10<100.9,"3rd Quartile",IF(B10<105.9,"2nd Quartile","Top Quartile"))) -> 3rd Quartile | F13: =IF(F10<95.9,"Bottom Quartile",IF(F10<100.9,"3rd Quartile",IF(F10<105.9,"2nd Quartile","Top Quartile"))) -> Top Quartile | AC13: 0.22309141 | AD13: 32.75 | AE13: 0.056553217 | AF13: 28.1 | BD13: -0.89100652 | BE13: 0.4539905 | BF13: -0.30901699 | BG13: 0.95105652 | BH13: 0.4539905 | BI13: 0.89100652 | BJ13: 0.95105652 | BK13: 0.30901699
L14: Change only the yellow What If cells. The peer distribution remains fixed. The school is reranked against the approved peer values using the agreed measure-specific rule, then the component and domain Indices update automatically. To reset a measure, copy its Published figure back into the yellow What If cell. | AC14: 0.067057214 | AD14: 32.5 | AE14: 0.11123118 | AF14: 22.1 | BD14: -0.87249601 | BE14: 0.48862124 | BF14: -0.27144045 | BG14: 0.96245524 | BH14: 0.48862124 | BI14: 0.87249601 | BJ14: 0.96245524 | BK14: 0.27144045
AC15: 0.024424526 | AD15: 32.5 | AE15: 0.01287711 | AF15: 22.9 | BD15: -0.85264016 | BE15: 0.52249856 | BF15: -0.23344536 | BG15: 0.97236992 | BH15: 0.52249856 | BI15: 0.85264016 | BJ15: 0.97236992 | BK15: 0.23344536
B16: CHANGE FROM PUBLISHED | AC16: 0.088503004 | AD16: 32.75 | AE16: 0.044375355 | AF16: 25.7 | BD16: -0.83146961 | BE16: 0.55557023 | BF16: -0.19509032 | BG16: 0.98078528 | BH16: 0.55557023 | BI16: 0.83146961 | BJ16: 0.98078528 | BK16: 0.19509032
AC17: 0.036131392 | AD17: 32.5 | AE17: 0 | AF17: 22 | BD17: -0.80901699 | BE17: 0.58778525 | BF17: -0.15643447 | BG17: 0.98768834 | BH17: 0.58778525 | BI17: 0.80901699 | BJ17: 0.98768834 | BK17: 0.15643447
B18: =ROUND($AY$11-99,1) -> 9.3 | AC18: 0.014029771 | AD18: 32.5 | AE18: 0.096804651 | AF18: 21.3 | BD18: -0.78531693 | BE18: 0.61909395 | BF18: -0.1175374 | BG18: 0.99306846 | BH18: 0.61909395 | BI18: 0.78531693 | BJ18: 0.99306846 | BK18: 0.1175374
AC19: 0.16218077 | AD19: 33.25 | AE19: 0.0031658903 | AF19: 28.5 | BD19: -0.76040597 | BE19: 0.64944805 | BF19: -0.078459096 | BG19: 0.99691733 | BH19: 0.64944805 | BI19: 0.76040597 | BJ19: 0.99691733 | BK19: 0.078459096
L20: Source linkage Published domain Index and quartile thresholds: approved Violet High School 2026 Dashboard. Component inputs, fixed peer distributions and reranking rules: approved GAUGED What If calculation engine. | AC20: 0.012826222 | AD20: 32.5 | AE20: 0.0046793921 | AF20: 20.8 | BD20: -0.73432251 | BE20: 0.67880075 | BF20: -0.039259816 | BG20: 0.99922904 | BH20: 0.67880075 | BI20: 0.73432251 | BJ20: 0.99922904 | BK20: 0.039259816
AC21: 0.0062292591 | AD21: 32.75 | AE21: 0.068680248 | AF21: 22.1 | BD21: -0.70710678 | BE21: 0.70710678 | BF21: 6.123234e-17 | BG21: 1 | BH21: 0.70710678 | BI21: 0.70710678 | BJ21: 1 | BK21: 0
B22: BOTTOM | D22: 3RD | F22: 2ND | H22: TOP | AC22: 0.046993266 | AD22: 32 | AE22: 0.049473473 | AF22: 19.6
AC23: 0.080832138 | AD23: 32.5 | AE23: 0.16739035 | AF23: 20
AC24: 0.033354415 | AD24: 32.5 | AE24: 0 | AF24: 21.5
B25: 100 = Peer Median | AC25: 0.047200364 | AD25: 33 | AE25: 0.066957888 | AF25: 21
AC26: 0.082425962 | AD26: 40 | AE26: 0.13403757 | AF26: 22.1
AC27: 0.029456508 | AD27: 31.25 | AE27: 0.025239797 | AF27: 23
AC28: 0.013362893 | AD28: 33.75 | AE28: 0.040933273 | AF28: 21.2
AC29: 0.0054864932 | AD29: 32.5 | AE29: 0.023603689 | AF29: 22.1
AC30: 0.12164403 | AD30: 32.5 | AE30: 0 | AF30: 24.9
AC31: 0.012857311 | AD31: 34 | AE31: 0.025975973 | AF31: 22.2
AC32: 0.08657034 | AD32: 32.25 | AE32: 0.039747619 | AF32: 22.7
AC33: 0.020193698 | AD33: 35.75 | AE33: 0.025957726 | AF33: 23.7
AC34: 0.057139423 | AD34: 32.5 | AE34: 0.072864982 | AF34: 20
AC35: 0.085662959 | AD35: 32.5 | AE35: 0.12349849 | AF35: 18.7
AC36: 0.027855082 | AD36: 32.5 | AE36: 0 | AF36: 22.2
AC37: 0.016975565 | AD37: 32.5 | AE37: 0.053018648 | AF37: 24.1
... AC107: 0.02073499 | AD107: 31.75 | AE107: 0.043967897 | AF107: 21.3

Sheet Workforce Resilience
B1: SCENARIO PLANNER - WORKFORCE RESILIENCE | AC1: SAB | AD1: % Teachers with Sickness Absence | AE1: Average Days per Absence | AY1: Published Domain | AZ1: PubX | BA1: PubY | BB1: WhatX | BC1: WhatY | BD1: -1 | BE1: 1.2246468e-16 | BF1: -0.70710678 | BG1: 0.70710678 | BH1: 6.123234e-17 | BI1: 1 | BJ1: 0.70710678 | BK1: 0.70710678
AC2: 5.1972 | AD2: 0.852 | AE2: 6.1 | AI2: 0.6 | AY2: 98.9 | AZ2: 0 | BA2: 0 | BB2: 0 | BC2: 0 | BD2: -0.99922904 | BE2: 0.039259816 | BF2: -0.67880075 | BG2: 0.73432251 | BH2: 0.039259816 | BI2: 0.99922904 | BJ2: 0.73432251 | BK2: 0.67880075
AC3: 4.0572 | AD3: 0.644 | AE3: 6.3 | AI3: 0.2 | AY3: Q1 | AZ3: =COS(RADIANS(IF($AY$2<$AY$4,180-MAX(0,MIN(1,($AY$2-($AY$4-($AY$6-$AY$4)))/($AY$4-($AY$4-($AY$6-$AY$4)))))*45,IF($AY$2<$AY$6,135-(($AY$2-$AY$4)/($AY$6-$AY$4))*45,IF($AY$2<$AY$8,90-(($AY$2-$AY$6)/($AY$8-$AY$6))*45,45-MAX(0,MIN(1,($AY$2-$AY$8)/(($AY$8+($AY$8-$AY$6))-$AY$8)))*45)))))*0.72 -> -0.09556238 | BA3: =SIN(RADIANS(IF($AY$2<$AY$4,180-MAX(0,MIN(1,($AY$2-($AY$4-($AY$6-$AY$4)))/($AY$4-($AY$4-($AY$6-$AY$4)))))*45,IF($AY$2<$AY$6,135-(($AY$2-$AY$4)/($AY$6-$AY$4))*45,IF($AY$2<$AY$8,90-(($AY$2-$AY$6)/($AY$8-$AY$6))*45,45-MAX(0,MIN(1,($AY$2-$AY$8)/(($AY$8+($AY$8-$AY$6))-$AY$8)))*45)))))*0.72 -> 0.71363004 | BB3: =COS(RADIANS(IF($AY$11<$AY$4,180-MAX(0,MIN(1,($AY$11-($AY$4-($AY$6-$AY$4)))/($AY$4-($AY$4-($AY$6-$AY$4)))))*45,IF($AY$11<$AY$6,135-(($AY$11-$AY$4)/($AY$6-$AY$4))*45,IF($AY$11<$AY$8,90-(($AY$11-$AY$6)/($AY$8-$AY$6))*45,45-MAX(0,MIN(1,($AY$11-$AY$8)/(($AY$8+($AY$8-$AY$6))-$AY$8)))*45)))))*0.72 -> 0.72 | BC3: =SIN(RADIANS(IF($AY$11<$AY$4,180-MAX(0,MIN(1,($AY$11-($AY$4-($AY$6-$AY$4)))/($AY$4-($AY$4-($AY$6-$AY$4)))))*45,IF($AY$11<$AY$6,135-(($AY$11-$AY$4)/($AY$6-$AY$4))*45,IF($AY$11<$AY$8,90-(($AY$11-$AY$6)/($AY$8-$AY$6))*45,45-MAX(0,MIN(1,($AY$11-$AY$8)/(($AY$8+($AY$8-$AY$6))-$AY$8)))*45)))))*0.72 -> 0 | BD3: -0.99691733 | BE3: 0.078459096 | BF3: -0.64944805 | BG3: 0.76040597 | BH3: 0.078459096 | BI3: 0.99691733 | BJ3: 0.76040597 | BK3: 0.64944805
B4: Violet High School WORKFORCE RESILIENCE | L4: Measure | M4: Published | N4: What If | O4: Published Index | P4: What If Index | Q4: Index Change | AI4: 0.2 | AY4: 89.1 | BD4: -0.99306846 | BE4: 0.1175374 | BF4: -0.61909395 | BG4: 0.78531693 | BH4: 0.1175374 | BI4: 0.99306846 | BJ4: 0.78531693 | BK4: 0.61909395
AC5: 4.3152 | AD5: 0.744 | AE5: 5.8 | AY5: Q2 | BD5: -0.98768834 | BE5: 0.15643447 | BF5: -0.58778525 | BG5: 0.80901699 | BH5: 0.15643447 | BI5: 0.98768834 | BJ5: 0.80901699 | BK5: 0.58778525
L6: Sickness Absence Burden (SAB) * | M6: 5.052 | N6: =IFERROR(N8*N7, " ") -> 0 | O6: 102.12264 | P6: =100+((((COUNT($AC$2:$AC$107)+1)+1)/2-(1+COUNTIFS($AC$2:$AC$107,"<>",$AC$2:$AC$107,"<"&N6)))/(COUNT($AC$2:$AC$107)+1)*50) -> 124.76415 | Q6: =P6-O6 -> 22.641509 | AC6: 5.8077 | AD6: 0.717 | AE6: 8.1 | AY6: 100.9 | BD6: -0.98078528 | BE6: 0.19509032 | BF6: -0.55557023 | BG6: 0.83146961 | BH6: 0.19509032 | BI6: 0.98078528 | BJ6: 0.83146961 | BK6: 0.55557023
L7: Teachers with Sickness Absence | M7: 0.842 | N7: 0 | O7: 77.59434 | P7: =100+((((COUNT($AD$2:$AD$107)+1)+1)/2-(1+COUNTIFS($AD$2:$AD$107,"<>",$AD$2:$AD$107,"<"&N7)))/(COUNT($AD$2:$AD$107)+1)*50) -> 124.76415 | Q7: =P7-O7 -> 47.169811 | AC7: 7.616 | AD7: 0.68 | AE7: 11.2 | AY7: Q3 | BD7: -0.97236992 | BE7: 0.23344536 | BF7: -0.52249856 | BG7: 0.85264016 | BH7: 0.23344536 | BI7: 0.97236992 | BJ7: 0.85264016 | BK7: 0.52249856
B8: PUBLISHED INDEX | F8: WHAT IF INDEX | L8: Average Days per Absence | M8: 6 | N8: 0 | O8: 112.5 | P8: =100+((((COUNT($AE$2:$AE$107)+1)+1)/2-(1+COUNTIFS($AE$2:$AE$107,"<>",$AE$2:$AE$107,"<"&N8)))/(COUNT($AE$2:$AE$107)+1)*50) -> 124.76415 | Q8: =P8-O8 -> 12.264151 | AC8: 3.3648 | AD8: 0.701 | AE8: 4.8 | AY8: 110.8 | BD8: -0.96245524 | BE8: 0.27144045 | BF8: -0.48862124 | BG8: 0.87249601 | BH8: 0.27144045 | BI8: 0.96245524 | BJ8: 0.87249601 | BK8: 0.48862124
AC9: 6.741 | AD9: 0.642 | AE9: 10.5 | BD9: -0.95105652 | BE9: 0.30901699 | BF9: -0.4539905 | BG9: 0.89100652 | BH9: 0.30901699 | BI9: 0.95105652 | BJ9: 0.89100652 | BK9: 0.4539905
B10: 98.9 | F10: =ROUND($AY$11,1) -> 124.4 | L10: * Note: Sickness Absence Burden will update automatically in the What If cell (N6), as it is calculated by multiplying Average Days per Absence by the % of Teachers with Sickness Absence. | AC10: 5.328 | AD10: 0.72 | AE10: 7.4 | AY10: What If Domain | BD10: -0.93819134 | BE10: 0.34611706 | BF10: -0.41865974 | BG10: 0.90814317 | BH10: 0.34611706 | BI10: 0.93819134 | BJ10: 0.90814317 | BK10: 0.41865974
AC11: 5.9148 | AD11: 0.636 | AE11: 9.3 | AY11: =$AY$2+$AI$2*Q6+$AI$3*Q7+$AI$4*Q8 -> 124.3717 | BD11: -0.92387953 | BE11: 0.38268343 | BF11: -0.38268343 | BG11: 0.92387953 | BH11: 0.38268343 | BI11: 0.92387953 | BJ11: 0.92387953 | BK11: 0.38268343
AC12: 4.8373 | AD12: 0.793 | AE12: 6.1 | BD12: -0.90814317 | BE12: 0.41865974 | BF12: -0.34611706 | BG12: 0.93819134 | BH12: 0.41865974 | BI12: 0.90814317 | BJ12: 0.93819134 | BK12: 0.34611706
B13: =IF(B10<89.1,"Bottom Quartile",IF(B10<100.9,"3rd Quartile",IF(B10<110.8,"2nd Quartile","Top Quartile"))) -> 3rd Quartile | F13: =IF(F10<89.1,"Bottom Quartile",IF(F10<100.9,"3rd Quartile",IF(F10<110.8,"2nd Quartile","Top Quartile"))) -> Top Quartile | AC13: 3.8704 | AD13: 0.656 | AE13: 5.9 | BD13: -0.89100652 | BE13: 0.4539905 | BF13: -0.30901699 | BG13: 0.95105652 | BH13: 0.4539905 | BI13: 0.89100652 | BJ13: 0.95105652 | BK13: 0.30901699
L14: Change only the yellow What If cells. The peer distribution remains fixed. The school is reranked against the approved peer values using the agreed measure-specific rule, then the component and domain Indices update automatically. To reset a measure, copy its Published figure back into the yellow What If cell. | AC14: 4.8378 | AD14: 0.733 | AE14: 6.6 | BD14: -0.87249601 | BE14: 0.48862124 | BF14: -0.27144045 | BG14: 0.96245524 | BH14: 0.48862124 | BI14: 0.87249601 | BJ14: 0.96245524 | BK14: 0.27144045
AC15: 5.1121 | AD15: 0.763 | AE15: 6.7 | BD15: -0.85264016 | BE15: 0.52249856 | BF15: -0.23344536 | BG15: 0.97236992 | BH15: 0.52249856 | BI15: 0.85264016 | BJ15: 0.97236992 | BK15: 0.23344536
B16: CHANGE FROM PUBLISHED | AC16: 6.562 | AD16: 0.772 | AE16: 8.5 | BD16: -0.83146961 | BE16: 0.55557023 | BF16: -0.19509032 | BG16: 0.98078528 | BH16: 0.55557023 | BI16: 0.83146961 | BJ16: 0.98078528 | BK16: 0.19509032
AC17: 10.88 | AD17: 0.85 | AE17: 12.8 | BD17: -0.80901699 | BE17: 0.58778525 | BF17: -0.15643447 | BG17: 0.98768834 | BH17: 0.58778525 | BI17: 0.80901699 | BJ17: 0.98768834 | BK17: 0.15643447
B18: =ROUND($AY$11-98.9,1) -> 25.5 | AC18: 4.6648 | AD18: 0.686 | AE18: 6.8 | BD18: -0.78531693 | BE18: 0.61909395 | BF18: -0.1175374 | BG18: 0.99306846 | BH18: 0.61909395 | BI18: 0.78531693 | BJ18: 0.99306846 | BK18: 0.1175374
AC19: 0 | AD19: 0 | AE19: 0 | BD19: -0.76040597 | BE19: 0.64944805 | BF19: -0.078459096 | BG19: 0.99691733 | BH19: 0.64944805 | BI19: 0.76040597 | BJ19: 0.99691733 | BK19: 0.078459096
L20: Source linkage Published domain Index and quartile thresholds: approved Violet High School 2026 Dashboard. Component inputs, fixed peer distributions and reranking rules: approved GAUGED What If calculation engine. | AC20: 2.3182 | AD20: 0.346 | AE20: 6.7 | BD20: -0.73432251 | BE20: 0.67880075 | BF20: -0.039259816 | BG20: 0.99922904 | BH20: 0.67880075 | BI20: 0.73432251 | BJ20: 0.99922904 | BK20: 0.039259816
AC21: 7.3225 | AD21: 0.725 | AE21: 10.1 | BD21: -0.70710678 | BE21: 0.70710678 | BF21: 6.123234e-17 | BG21: 1 | BH21: 0.70710678 | BI21: 0.70710678 | BJ21: 1 | BK21: 0
B22: BOTTOM | D22: 3RD | F22: 2ND | H22: TOP | AC22: 5.1428 | AD22: 0.598 | AE22: 8.6
AC23: 7.2567 | AD23: 0.733 | AE23: 9.9
AC24: 6.7596 | AD24: 0.786 | AE24: 8.6
B25: 100 = Peer Median | AC25: 8.4584 | AD25: 0.776 | AE25: 10.9
AC26: 4.4576 | AD26: 0.796 | AE26: 5.6
AC27: 3.9 | AD27: 0.6 | AE27: 6.5
AC28: 6.2884 | AD28: 0.796 | AE28: 7.9
AC29: 5.2212 | AD29: 0.687 | AE29: 7.6
AC30: 6.0593 | AD30: 0.767 | AE30: 7.9
AC31: 0 | AD31: 0 | AE31: 0
AC32: 4.6197 | AD32: 0.783 | AE32: 5.9
AC33: 5.208 | AD33: 0.744 | AE33: 7
AC34: 4.5504 | AD34: 0.632 | AE34: 7.2
AC35: 4.2908 | AD35: 0.631 | AE35: 6.8
AC36: 3.1365 | AD36: 0.697 | AE36: 4.5
AC37: 11.0568 | AD37: 0.813 | AE37: 13.6
... AC107: 6.0544 | AD107: 0.688 | AE107: 8.8

Sheet Financial Stewardship
B1: SCENARIO PLANNER - FINANCIAL STEWARDSHIP | AC1: Teaching & Learning Investment | AD1: Non-Pay Costs / Expenditure | AE1: Revenue Reserves % of Income | AF1: Underlying In-Year Balance % of Income | AG1: Self-Generated Funding | AY1: Published Domain | AZ1: PubX | BA1: PubY | BB1: WhatX | BC1: WhatY | BD1: -1 | BE1: 1.2246468e-16 | BF1: -0.70710678 | BG1: 0.70710678 | BH1: 6.123234e-17 | BI1: 1 | BJ1: 0.70710678 | BK1: 0.70710678
AC2: 0.72225841 | AD2: 0.26518901 | AE2: 0.084632403 | AF2: 0.0082131239 | AG2: 164.47244 | AI2: 0.3 | AY2: 99.7 | AZ2: 0 | BA2: 0 | BB2: 0 | BC2: 0 | BD2: -0.99922904 | BE2: 0.039259816 | BF2: -0.67880075 | BG2: 0.73432251 | BH2: 0.039259816 | BI2: 0.99922904 | BJ2: 0.73432251 | BK2: 0.67880075
AC3: 0.80748123 | AD3: 0.24356487 | AE3: 0.2 | AF3: 0.026033812 | AG3: 154.25984 | AI3: 0.2 | AY3: Q1 | AZ3: =COS(RADIANS(IF($AY$2<$AY$4,180-MAX(0,MIN(1,($AY$2-($AY$4-($AY$6-$AY$4)))/($AY$4-($AY$4-($AY$6-$AY$4)))))*45,IF($AY$2<$AY$6,135-(($AY$2-$AY$4)/($AY$6-$AY$4))*45,IF($AY$2<$AY$8,90-(($AY$2-$AY$6)/($AY$8-$AY$6))*45,45-MAX(0,MIN(1,($AY$2-$AY$8)/(($AY$8+($AY$8-$AY$6))-$AY$8)))*45)))))*0.72 -> -0.052556627 | BA3: =SIN(RADIANS(IF($AY$2<$AY$4,180-MAX(0,MIN(1,($AY$2-($AY$4-($AY$6-$AY$4)))/($AY$4-($AY$4-($AY$6-$AY$4)))))*45,IF($AY$2<$AY$6,135-(($AY$2-$AY$4)/($AY$6-$AY$4))*45,IF($AY$2<$AY$8,90-(($AY$2-$AY$6)/($AY$8-$AY$6))*45,45-MAX(0,MIN(1,($AY$2-$AY$8)/(($AY$8+($AY$8-$AY$6))-$AY$8)))*45)))))*0.72 -> 0.71807924 | BB3: =COS(RADIANS(IF($AY$11<$AY$4,180-MAX(0,MIN(1,($AY$11-($AY$4-($AY$6-$AY$4)))/($AY$4-($AY$4-($AY$6-$AY$4)))))*45,IF($AY$11<$AY$6,135-(($AY$11-$AY$4)/($AY$6-$AY$4))*45,IF($AY$11<$AY$8,90-(($AY$11-$AY$6)/($AY$8-$AY$6))*45,45-MAX(0,MIN(1,($AY$11-$AY$8)/(($AY$8+($AY$8-$AY$6))-$AY$8)))*45)))))*0.72 -> -0.72 | BC3: =SIN(RADIANS(IF($AY$11<$AY$4,180-MAX(0,MIN(1,($AY$11-($AY$4-($AY$6-$AY$4)))/($AY$4-($AY$4-($AY$6-$AY$4)))))*45,IF($AY$11<$AY$6,135-(($AY$11-$AY$4)/($AY$6-$AY$4))*45,IF($AY$11<$AY$8,90-(($AY$11-$AY$6)/($AY$8-$AY$6))*45,45-MAX(0,MIN(1,($AY$11-$AY$8)/(($AY$8+($AY$8-$AY$6))-$AY$8)))*45)))))*0.72 -> 8.8210689e-17 | BD3: -0.99691733 | BE3: 0.078459096 | BF3: -0.64944805 | BG3: 0.76040597 | BH3: 0.078459096 | BI3: 0.99691733 | BJ3: 0.76040597 | BK3: 0.64944805
B4: Violet High School FINANCIAL STEWARDSHIP | L4: Measure | M4: Published | N4: What If | O4: Published Index | P4: What If Index | Q4: Index Change | AC4: 0.72610543 | AD4: 0.25761823 | AE4: 0.044554455 | AF4: 0.004590459 | AG4: 511.42857 | AI4: 0.2 | AY4: 95.8 | BD4: -0.99306846 | BE4: 0.1175374 | BF4: -0.61909395 | BG4: 0.78531693 | BH4: 0.1175374 | BI4: 0.99306846 | BJ4: 0.78531693 | BK4: 0.61909395
AC5: 0.75729551 | AD5: 0.24312352 | AE5: 0.061972017 | AF5: 0.010637156 | AG5: 277.81848 | AI5: 0.15 | AY5: Q2 | BD5: -0.98768834 | BE5: 0.15643447 | BF5: -0.58778525 | BG5: 0.80901699 | BH5: 0.15643447 | BI5: 0.98768834 | BJ5: 0.80901699 | BK5: 0.58778525
L6: Teaching & Learning Investment | M6: 0.78693555 | N6: 0 | O6: 113.08411 | P6: =100+((((COUNT($AC$2:$AC$107)+1)+1)/2-(1+COUNTIFS($AC$2:$AC$107,"<>",$AC$2:$AC$107,">"&N6)))/(COUNT($AC$2:$AC$107)+1)*50) -> 75.233645 | Q6: =P6-O6 -> -37.850467 | AC6: 0.82397759 | AD6: 0.20427448 | AE6: 0.011442323 | AF6: -0.0058621257 | AG6: 22.715263 | AI6: 0.15 | AY6: 100.1 | BD6: -0.98078528 | BE6: 0.19509032 | BF6: -0.55557023 | BG6: 0.83146961 | BH6: 0.19509032 | BI6: 0.98078528 | BJ6: 0.83146961 | BK6: 0.55557023
L7: Non-Pay Costs / Expenditure | M7: 0.20166594 | N7: 0 | O7: 116.35514 | P7: =100+((((COUNT($AD$2:$AD$107)+1)+1)/2-(1+COUNTIFS($AD$2:$AD$107,"<>",$AD$2:$AD$107,"<"&N7)))/(COUNT($AD$2:$AD$107)+1)*50) -> 124.76636 | Q7: =P7-O7 -> 8.411215 | AC7: 0.7849402 | AD7: 0.19530681 | AE7: 0.09827715 | AF7: -0.045039461 | AG7: 344.35502 | AY7: Q3 | BD7: -0.97236992 | BE7: 0.23344536 | BF7: -0.52249856 | BG7: 0.85264016 | BH7: 0.23344536 | BI7: 0.97236992 | BJ7: 0.85264016 | BK7: 0.52249856
B8: PUBLISHED INDEX | F8: WHAT IF INDEX | L8: Revenue Reserves / Income | M8: 0.061596144 | N8: 0 | O8: 94.859813 | P8: =100+((((COUNT($AE$2:$AE$107)+1)+1)/2-(1+COUNTIFS($AE$2:$AE$107,"<>",$AE$2:$AE$107,">"&MIN(N8,20%))))/(COUNT($AE$2:$AE$107)+1)*50) -> 79.906542 | Q8: =P8-O8 -> -14.953271 | AC8: 0.80266739 | AD8: 0.20150608 | AE8: 0.040770526 | AF8: -0.030671405 | AG8: 336.32597 | AY8: 105.2 | BD8: -0.96245524 | BE8: 0.27144045 | BF8: -0.48862124 | BG8: 0.87249601 | BH8: 0.27144045 | BI8: 0.96245524 | BJ8: 0.87249601 | BK8: 0.48862124
L9: In-Year Balance / Income | M9: -0.018121764 | N9: 0 | O9: 86.915888 | P9: =100+((((COUNT($AF$2:$AF$107)+1)+1)/2-(1+COUNTIFS($AF$2:$AF$107,"<>",$AF$2:$AF$107,">"&MIN(N9,5%))))/(COUNT($AF$2:$AF$107)+1)*50) -> 97.196262 | Q9: =P9-O9 -> 10.280374 | AC9: 0.81236674 | AD9: 0.228742 | AE9: 0.14693845 | AF9: 0.05 | AG9: 158.8785 | BD9: -0.95105652 | BE9: 0.30901699 | BF9: -0.4539905 | BG9: 0.89100652 | BH9: 0.30901699 | BI9: 0.95105652 | BJ9: 0.89100652 | BK9: 0.4539905
B10: 99.7 | F10: =ROUND($AY$11,1) -> 86.5 | L10: Self-Generated Funding / Pupil | M10: 238.96286 | N10: 0 | O10: 89.252336 | P10: =100+((((COUNT($AG$2:$AG$107)+1)+1)/2-(1+COUNTIFS($AG$2:$AG$107,"<>",$AG$2:$AG$107,">"&N10)))/(COUNT($AG$2:$AG$107)+1)*50) -> 75.233645 | Q10: =P10-O10 -> -14.018692 | AC10: 0.76142402 | AD10: 0.20123817 | AE10: 0.0994316 | AF10: 0.034543132 | AG10: 192.53457 | AY10: What If Domain | BD10: -0.93819134 | BE10: 0.34611706 | BF10: -0.41865974 | BG10: 0.90814317 | BH10: 0.34611706 | BI10: 0.93819134 | BJ10: 0.90814317 | BK10: 0.41865974
AC11: 0.81295108 | AD11: 0.22103047 | AE11: 0.037022848 | AF11: 0.05 | AG11: 353.25276 | AY11: =$AY$2+$AI$2*Q6+$AI$3*Q7+$AI$4*Q8+$AI$5*Q9+$AI$6*Q10 -> 86.475701 | BD11: -0.92387953 | BE11: 0.38268343 | BF11: -0.38268343 | BG11: 0.92387953 | BH11: 0.38268343 | BI11: 0.92387953 | BJ11: 0.92387953 | BK11: 0.38268343
AC12: 0.75851976 | AD12: 0.24858875 | AE12: 0.056692755 | AF12: 0.040136464 | AG12: 353.88128 | BD12: -0.90814317 | BE12: 0.41865974 | BF12: -0.34611706 | BG12: 0.93819134 | BH12: 0.41865974 | BI12: 0.90814317 | BJ12: 0.93819134 | BK12: 0.34611706
B13: =IF(B10<95.8,"Bottom Quartile",IF(B10<100.1,"3rd Quartile",IF(B10<105.2,"2nd Quartile","Top Quartile"))) -> 3rd Quartile | F13: =IF(F10<95.8,"Bottom Quartile",IF(F10<100.1,"3rd Quartile",IF(F10<105.2,"2nd Quartile","Top Quartile"))) -> Bottom Quartile | AC13: 0.76659431 | AD13: 0.22996924 | AE13: 0.2 | AF13: 0.032439687 | AG13: 420.32329 | BD13: -0.89100652 | BE13: 0.4539905 | BF13: -0.30901699 | BG13: 0.95105652 | BH13: 0.4539905 | BI13: 0.89100652 | BJ13: 0.95105652 | BK13: 0.30901699
L14: Change only the yellow What If cells. The peer distribution remains fixed. The school is reranked against the approved peer values using the agreed measure-specific rule, then the component and domain Indices update automatically. To reset a measure, copy its Published figure back into the yellow What If cell. | AC14: 0.71433527 | AD14: 0.25066516 | AE14: -0.01326759 | AF14: -0.04033026 | AG14: 524.02631 | BD14: -0.87249601 | BE14: 0.48862124 | BF14: -0.27144045 | BG14: 0.96245524 | BH14: 0.48862124 | BI14: 0.87249601 | BJ14: 0.96245524 | BK14: 0.27144045
AC15: 0.67856839 | AD15: 0.30136803 | AE15: 0.091201643 | AF15: -0.0063200786 | AG15: 287.9078 | BD15: -0.85264016 | BE15: 0.52249856 | BF15: -0.23344536 | BG15: 0.97236992 | BH15: 0.52249856 | BI15: 0.85264016 | BJ15: 0.97236992 | BK15: 0.23344536
B16: CHANGE FROM PUBLISHED | AC16: 0.76897495 | AD16: 0.2370083 | AE16: 0.043824241 | AF16: 0.038121047 | AG16: 274.72437 | BD16: -0.83146961 | BE16: 0.55557023 | BF16: -0.19509032 | BG16: 0.98078528 | BH16: 0.55557023 | BI16: 0.83146961 | BJ16: 0.98078528 | BK16: 0.19509032
AC17: 0.77506324 | AD17: 0.21959358 | AE17: 0.014917153 | AF17: -0.031158469 | AG17: 358.65261 | BD17: -0.80901699 | BE17: 0.58778525 | BF17: -0.15643447 | BG17: 0.98768834 | BH17: 0.58778525 | BI17: 0.80901699 | BJ17: 0.98768834 | BK17: 0.15643447
B18: =ROUND($AY$11-99.7,1) -> -13.2 | AC18: 0.77048105 | AD18: 0.25702437 | AE18: -0.016586562 | AF18: 0.013866765 | AG18: 406.05627 | BD18: -0.78531693 | BE18: 0.61909395 | BF18: -0.1175374 | BG18: 0.99306846 | BH18: 0.61909395 | BI18: 0.78531693 | BJ18: 0.99306846 | BK18: 0.1175374
AC19: 0.76918261 | AD19: 0.29672688 | AE19: 0.023099309 | AF19: -0.016915242 | AG19: 399.85272 | BD19: -0.76040597 | BE19: 0.64944805 | BF19: -0.078459096 | BG19: 0.99691733 | BH19: 0.64944805 | BI19: 0.76040597 | BJ19: 0.99691733 | BK19: 0.078459096
L20: Source linkage Published domain Index and quartile thresholds: approved Violet High School 2026 Dashboard. Component inputs, fixed peer distributions and reranking rules: approved GAUGED What If calculation engine. | AC20: 0.68740864 | AD20: 0.29707768 | AE20: 0.2 | AF20: 0.0098853914 | AG20: 428.5105 | BD20: -0.73432251 | BE20: 0.67880075 | BF20: -0.039259816 | BG20: 0.99922904 | BH20: 0.67880075 | BI20: 0.73432251 | BJ20: 0.99922904 | BK20: 0.039259816
AC21: 0.70898846 | AD21: 0.24378129 | AE21: 0.041957272 | AF21: 0.026973983 | AG21: 492.6902 | BD21: -0.70710678 | BE21: 0.70710678 | BF21: 6.123234e-17 | BG21: 1 | BH21: 0.70710678 | BI21: 0.70710678 | BJ21: 1 | BK21: 0
B22: BOTTOM | D22: 3RD | F22: 2ND | H22: TOP | AC22: 0.73162393 | AD22: 0.2396179 | AE22: 0.1217539 | AF22: 0.0066919696 | AG22: 444.09199
AC23: 0.73711101 | AD23: 0.25856029 | AE23: 0.039800474 | AF23: 0.04331067 | AG23: 450.63324
AC24: 0.77251094 | AD24: 0.21158939 | AE24: -0.00028424676 | AF24: 0.0014275719 | AG24: 536.99257
B25: 100 = Peer Median | AC25: 0.76137346 | AD25: 0.23810759 | AE25: 0.05499824 | AF25: -0.017423442 | AG25: 848.0055
AC26: 0.63762473 | AD26: 0.35101809 | AE26: 0.045874534 | AF26: 0.00089155455 | AG26: 378.49779
AC27: 0.82862208 | AD27: 0.21057815 | AE27: 0.063471883 | AF27: 0.0070415648 | AG27: 125
AC28: 0.72928967 | AD28: 0.26298829 | AE28: 0.030370051 | AF28: -0.041702448 | AG28: 483.52165
AC29: 0.77128516 | AD29: 0.22031508 | AE29: 0.11980844 | AF29: 0.043814349 | AG29: 542.69343
AC30: 0.77797183 | AD30: 0.18396105 | AE30: 0.10840084 | AF30: 0.035002356 | AG30: 203.50805
AC31: 0.76638088 | AD31: 0.2462408 | AE31: 0.19679025 | AF31: -0.019640809 | AG31: 456.28381
AC32: 0.73621895 | AD32: 0.23002794 | AE32: 0.12579842 | AF32: 0.0018765946 | AG32: 87.268461
AC33: 0.76382573 | AD33: 0.24777943 | AE33: 0.16383059 | AF33: -0.0098378984 | AG33: 398.65269
AC34: 0.76755019 | AD34: 0.20737822 | AE34: 0.1402852 | AF34: -0.00080567212 | AG34: 494.7292
AC35: 0.6725851 | AD35: 0.2323827 | AE35: 0.001844508 | AF35: -0.0024900858 | AG35: 298.23322
AC36: 0.8072183 | AD36: 0.17429786 | AE36: 0.037626809 | AF36: -0.087301975 | AG36: 86.994043
AC37: 0.72199191 | AD37: 0.22559931 | AE37: 0.17625848 | AF37: -0.033231883 | AG37: 170.21628
... AC107: 0.71488682 | AD107: 0.22949607 | AE107: 0.08034634 | AF107: 0.01509926 | AG107: 393.20946

Sheet KS4 Outcomes
B1: SCENARIO PLANNER - KS4 OUTCOMES | AC1: Attainment 8 | AD1: English & Maths Grade 5+ | AE1: EBacc APS | AF1: Attainment 8 Gap | AG1: Funding per Attainment 8 Point | AH1: Progress 8 | AY1: Published Domain | AZ1: PubX | BA1: PubY | BB1: WhatX | BC1: WhatY | BD1: -1 | BE1: 1.2246468e-16 | BF1: -0.70710678 | BG1: 0.70710678 | BH1: 6.123234e-17 | BI1: 1 | BJ1: 0.70710678 | BK1: 0.70710678
AC2: 46 | AD2: 0.455 | AE2: 3.68 | AF2: 18.7 | AG2: 151.51981 | AH2: 0.04 | AI2: 0.25 | AY2: 98.8 | AZ2: 0 | BA2: 0 | BB2: 0 | BC2: 0 | BD2: -0.99922904 | BE2: 0.039259816 | BF2: -0.67880075 | BG2: 0.73432251 | BH2: 0.039259816 | BI2: 0.99922904 | BJ2: 0.73432251 | BK2: 0.67880075
AC3: 49.6 | AD3: 0.531 | AE3: 4.39 | AF3: 15.5 | AG3: 137.47201 | AH3: 0 | AI3: 0.2 | AY3: Q1 | AZ3: =COS(RADIANS(IF($AY$2<$AY$4,180-MAX(0,MIN(1,($AY$2-($AY$4-($AY$6-$AY$4)))/($AY$4-($AY$4-($AY$6-$AY$4)))))*45,IF($AY$2<$AY$6,135-(($AY$2-$AY$4)/($AY$6-$AY$4))*45,IF($AY$2<$AY$8,90-(($AY$2-$AY$6)/($AY$8-$AY$6))*45,45-MAX(0,MIN(1,($AY$2-$AY$8)/(($AY$8+($AY$8-$AY$6))-$AY$8)))*45)))))*0.72 -> -0.11166974 | BA3: =SIN(RADIANS(IF($AY$2<$AY$4,180-MAX(0,MIN(1,($AY$2-($AY$4-($AY$6-$AY$4)))/($AY$4-($AY$4-($AY$6-$AY$4)))))*45,IF($AY$2<$AY$6,135-(($AY$2-$AY$4)/($AY$6-$AY$4))*45,IF($AY$2<$AY$8,90-(($AY$2-$AY$6)/($AY$8-$AY$6))*45,45-MAX(0,MIN(1,($AY$2-$AY$8)/(($AY$8+($AY$8-$AY$6))-$AY$8)))*45)))))*0.72 -> 0.71128747 | BB3: =COS(RADIANS(IF($AY$11<$AY$4,180-MAX(0,MIN(1,($AY$11-($AY$4-($AY$6-$AY$4)))/($AY$4-($AY$4-($AY$6-$AY$4)))))*45,IF($AY$11<$AY$6,135-(($AY$11-$AY$4)/($AY$6-$AY$4))*45,IF($AY$11<$AY$8,90-(($AY$11-$AY$6)/($AY$8-$AY$6))*45,45-MAX(0,MIN(1,($AY$11-$AY$8)/(($AY$8+($AY$8-$AY$6))-$AY$8)))*45)))))*0.72 -> -0.41883331 | BC3: =SIN(RADIANS(IF($AY$11<$AY$4,180-MAX(0,MIN(1,($AY$11-($AY$4-($AY$6-$AY$4)))/($AY$4-($AY$4-($AY$6-$AY$4)))))*45,IF($AY$11<$AY$6,135-(($AY$11-$AY$4)/($AY$6-$AY$4))*45,IF($AY$11<$AY$8,90-(($AY$11-$AY$6)/($AY$8-$AY$6))*45,45-MAX(0,MIN(1,($AY$11-$AY$8)/(($AY$8+($AY$8-$AY$6))-$AY$8)))*45)))))*0.72 -> 0.5856438 | BD3: -0.99691733 | BE3: 0.078459096 | BF3: -0.64944805 | BG3: 0.76040597 | BH3: 0.078459096 | BI3: 0.99691733 | BJ3: 0.76040597 | BK3: 0.64944805
B4: Violet High School EDUCATIONAL OUTCOMES (KS4) | L4: Measure | M4: Published | N4: What If | O4: Published Index | P4: What If Index | Q4: Index Change | AC4: 46.5 | AD4: 0.4 | AE4: 3.94 | AF4: 17.2 | AG4: 144.51003 | AH4: -0.21 | AI4: 0.15 | AY4: 89.5 | BD4: -0.99306846 | BE4: 0.1175374 | BF4: -0.61909395 | BG4: 0.78531693 | BH4: 0.1175374 | BI4: 0.99306846 | BJ4: 0.78531693 | BK4: 0.61909395
AC5: 45.8 | AD5: 0.416 | AE5: 3.73 | AF5: 20.2 | AG5: 153.87558 | AH5: 0.31 | AI5: 0.15 | AY5: Q2 | BD5: -0.98768834 | BE5: 0.15643447 | BF5: -0.58778525 | BG5: 0.80901699 | BH5: 0.15643447 | BI5: 0.98768834 | BJ5: 0.80901699 | BK5: 0.58778525
L6: Attainment 8 | M6: 44 | N6: 0 | O6: 90.654206 | P6: =100+((((COUNT($AC$2:$AC$107)+1)+1)/2-(1+COUNTIFS($AC$2:$AC$107,"<>",$AC$2:$AC$107,">"&N6)))/(COUNT($AC$2:$AC$107)+1)*50) -> 75.233645 | Q6: =P6-O6 -> -15.420561 | AC6: 44.2 | AD6: 0.449 | AE6: 3.92 | AF6: 12.3 | AG6: 154.76274 | AH6: -0.29 | AI6: 0.15 | AY6: 101.1 | BD6: -0.98078528 | BE6: 0.19509032 | BF6: -0.55557023 | BG6: 0.83146961 | BH6: 0.19509032 | BI6: 0.98078528 | BJ6: 0.83146961 | BK6: 0.55557023
L7: English & Maths 5+ | M7: 0.466 | N7: 0 | O7: 107.94393 | P7: =100+((((COUNT($AD$2:$AD$107)+1)+1)/2-(1+COUNTIFS($AD$2:$AD$107,"<>",$AD$2:$AD$107,">"&N7)))/(COUNT($AD$2:$AD$107)+1)*50) -> 75.233645 | Q7: =P7-O7 -> -32.71028 | AC7: 40.8 | AD7: 0.37 | AE7: 3.7 | AF7: 18.3 | AG7: 170.62166 | AH7: -0.24 | AI7: 0.1 | AY7: Q3 | BD7: -0.97236992 | BE7: 0.23344536 | BF7: -0.52249856 | BG7: 0.85264016 | BH7: 0.23344536 | BI7: 0.97236992 | BJ7: 0.85264016 | BK7: 0.52249856
B8: PUBLISHED INDEX | F8: WHAT IF INDEX | L8: EBacc APS | M8: 3.99 | N8: 0 | O8: 97.663551 | P8: =100+((((COUNT($AE$2:$AE$107)+1)+1)/2-(1+COUNTIFS($AE$2:$AE$107,"<>",$AE$2:$AE$107,">"&N8)))/(COUNT($AE$2:$AE$107)+1)*50) -> 75.233645 | Q8: =P8-O8 -> -22.429907 | AC8: 49.4 | AD8: 0.5 | AE8: 4.56 | AF8: 12.7 | AG8: 137.62911 | AH8: 0.47 | AY8: 109.3 | BD8: -0.96245524 | BE8: 0.27144045 | BF8: -0.48862124 | BG8: 0.87249601 | BH8: 0.27144045 | BI8: 0.96245524 | BJ8: 0.87249601 | BK8: 0.48862124
L9: Attainment 8 Gap | M9: 9.6 | N9: 0 | O9: 119.62617 | P9: =100+((((COUNT($AF$2:$AF$107)+1)+1)/2-(1+COUNTIFS($AF$2:$AF$107,"<>",$AF$2:$AF$107,"<"&N9)))/(COUNT($AF$2:$AF$107)+1)*50) -> 124.76636 | Q9: =P9-O9 -> 5.1401869 | AC9: 45.2 | AD9: 0.422 | AE9: 3.89 | AF9: 13.3 | AG9: 149.09085 | AH9: -0.1 | BD9: -0.95105652 | BE9: 0.30901699 | BF9: -0.4539905 | BG9: 0.89100652 | BH9: 0.30901699 | BI9: 0.95105652 | BJ9: 0.89100652 | BK9: 0.4539905
B10: 98.8 | F10: =ROUND($AY$11,1) -> 91.9 | L10: Funding / Attainment 8 Pt | M10: 151.30764 | N10: 0 | O10: 99.494949 | P10: =100+((((COUNT($AG$2:$AG$107)+1)+1)/2-(1+COUNTIFS($AG$2:$AG$107,"<>",$AG$2:$AG$107,"<"&N10)))/(COUNT($AG$2:$AG$107)+1)*50) -> 124.74747 | Q10: =P10-O10 -> 25.252525 | AC10: 50.2 | AD10: 0.542 | AE10: 4.7 | AF10: 14.1 | AG10: 135.72782 | AH10: 0.37 | AY10: What If Domain | BD10: -0.93819134 | BE10: 0.34611706 | BF10: -0.41865974 | BG10: 0.90814317 | BH10: 0.34611706 | BI10: 0.93819134 | BJ10: 0.90814317 | BK10: 0.41865974
L11: Progress 8 (latest available) | M11: -0.38 | N11: 0 | O11: 80.952381 | P11: =100+((((COUNT($AH$2:$AH$107)+1)+1)/2-(1+COUNTIFS($AH$2:$AH$107,"<>",$AH$2:$AH$107,">"&N11)))/(COUNT($AH$2:$AH$107)+1)*50) -> 104.28571 | Q11: =P11-O11 -> 23.333333 | AC11: 44.8 | AD11: 0.414 | AE11: 3.68 | AF11: 11.1 | AG11: 151.31769 | AH11: -0.22 | AY11: =$AY$2+$AI$2*Q6+$AI$3*Q7+$AI$4*Q8+$AI$5*Q9+$AI$6*Q10+$AI$7*Q11 -> 91.930558 | BD11: -0.92387953 | BE11: 0.38268343 | BF11: -0.38268343 | BG11: 0.92387953 | BH11: 0.38268343 | BI11: 0.92387953 | BJ11: 0.92387953 | BK11: 0.38268343
AC12: 45.9 | AD12: 0.448 | AE12: 3.73 | AF12: 9.2 | AG12: 143.71441 | AH12: -0.01 | BD12: -0.90814317 | BE12: 0.41865974 | BF12: -0.34611706 | BG12: 0.93819134 | BH12: 0.41865974 | BI12: 0.90814317 | BJ12: 0.93819134 | BK12: 0.34611706
B13: =IF(B10<89.5,"Bottom Quartile",IF(B10<101.1,"3rd Quartile",IF(B10<109.3,"2nd Quartile","Top Quartile"))) -> 3rd Quartile | F13: =IF(F10<89.5,"Bottom Quartile",IF(F10<101.1,"3rd Quartile",IF(F10<109.3,"2nd Quartile","Top Quartile"))) -> 3rd Quartile | AC13: 50.7 | AD13: 0.478 | AE13: 4.58 | AF13: 10.3 | AG13: 133.54223 | AH13: 0.09 | BD13: -0.89100652 | BE13: 0.4539905 | BF13: -0.30901699 | BG13: 0.95105652 | BH13: 0.4539905 | BI13: 0.89100652 | BJ13: 0.95105652 | BK13: 0.30901699
L14: Change only the yellow What If cells. The peer distribution remains fixed. The school is reranked against the approved peer values using the agreed measure-specific rule, then the component and domain Indices update automatically. To reset a measure, copy its Published figure back into the yellow What If cell. | AC14: 44.9 | AD14: 0.424 | AE14: 4.07 | AF14: 14.7 | AG14: 151.92758 | AH14: 0.22 | BD14: -0.87249601 | BE14: 0.48862124 | BF14: -0.27144045 | BG14: 0.96245524 | BH14: 0.48862124 | BI14: 0.87249601 | BJ14: 0.96245524 | BK14: 0.27144045
AC15: 43.2 | AD15: 0.414 | AE15: 3.82 | AF15: 14.9 | AG15: 167.52111 | AH15: -0.34 | BD15: -0.85264016 | BE15: 0.52249856 | BF15: -0.23344536 | BG15: 0.97236992 | BH15: 0.52249856 | BI15: 0.85264016 | BJ15: 0.97236992 | BK15: 0.23344536
B16: CHANGE FROM PUBLISHED | AC16: 47.1 | AD16: 0.472 | AE16: 4.44 | AF16: 15.5 | AG16: 142.28392 | AH16: 0.14 | BD16: -0.83146961 | BE16: 0.55557023 | BF16: -0.19509032 | BG16: 0.98078528 | BH16: 0.55557023 | BI16: 0.83146961 | BJ16: 0.98078528 | BK16: 0.19509032
AC17: 44.3 | AD17: 0.444 | AE17: 3.96 | AF17: 15.6 | AG17: 152.74576 | AH17: -0.31 | BD17: -0.80901699 | BE17: 0.58778525 | BF17: -0.15643447 | BG17: 0.98768834 | BH17: 0.58778525 | BI17: 0.80901699 | BJ17: 0.98768834 | BK17: 0.15643447
B18: =ROUND($AY$11-98.8,1) -> -6.9 | AC18: 45.5 | AD18: 0.411 | AE18: 4.05 | AF18: 15.1 | AG18: 151.77023 | AH18: -0.29 | BD18: -0.78531693 | BE18: 0.61909395 | BF18: -0.1175374 | BG18: 0.99306846 | BH18: 0.61909395 | BI18: 0.78531693 | BJ18: 0.99306846 | BK18: 0.1175374
AC19: 59.4 | AD19: 0.733 | AE19: 5.39 | AF19: 8.4 | AG19: 112.26507 | AH19: 0.5 | BD19: -0.76040597 | BE19: 0.64944805 | BF19: -0.078459096 | BG19: 0.99691733 | BH19: 0.64944805 | BI19: 0.76040597 | BJ19: 0.99691733 | BK19: 0.078459096
L20: Source linkage Published domain Index and quartile thresholds: approved Violet High School 2026 Dashboard. Component inputs, fixed peer distributions and reranking rules: approved GAUGED What If calculation engine. | AC20: 58.9 | AD20: 0.689 | AE20: 5.4 | AF20: 15.1 | AH20: 0.56 | BD20: -0.73432251 | BE20: 0.67880075 | BF20: -0.039259816 | BG20: 0.99922904 | BH20: 0.67880075 | BI20: 0.73432251 | BJ20: 0.99922904 | BK20: 0.039259816
AC21: 51.9 | AD21: 0.604 | AE21: 4.73 | AF21: 17.2 | AG21: 129.13814 | AH21: 0.05 | BD21: -0.70710678 | BE21: 0.70710678 | BF21: 6.123234e-17 | BG21: 1 | BH21: 0.70710678 | BI21: 0.70710678 | BJ21: 1 | BK21: 0
B22: BOTTOM | D22: 3RD | F22: 2ND | H22: TOP | AC22: 47.9 | AD22: 0.529 | AE22: 4.54 | AF22: 16.6 | AG22: 150.85905 | AH22: 0.18
AC23: 41.6 | AD23: 0.326 | AE23: 3.71 | AF23: 12.6 | AG23: 166.75921 | AH23: -0.2
AC24: 41 | AD24: 0.358 | AE24: 3.44 | AF24: 16.7 | AG24: 171.47314 | AH24: -0.41
B25: 100 = Peer Median | AC25: 46.1 | AD25: 0.416 | AE25: 4.02 | AF25: 10 | AG25: 150.5812 | AH25: -0.08
AC26: 49.7 | AD26: 0.506 | AE26: 4.35 | AF26: 11.4 | AG26: 134.64035 | AH26: 0.19
AC27: 51.9 | AD27: 0.515 | AE27: 4.67 | AF27: 18 | AG27: 130.84699 | AH27: 0.08
AC28: 43.2 | AD28: 0.375 | AE28: 3.62 | AF28: 14 | AG28: 159.80736
AC29: 57.8 | AD29: 0.657 | AE29: 5.07 | AF29: 11.5 | AG29: 115.59298 | AH29: 0.86
AC30: 40.4 | AD30: 0.287 | AE30: 3.48 | AF30: 8.7 | AH30: 0.07
AC31: 49.9 | AD31: 0.512 | AE31: 4.33 | AF31: 18.5 | AG31: 138.9513 | AH31: -0.14
AC32: 44.3 | AD32: 0.385 | AE32: 3.79 | AF32: 14.9 | AG32: 157.57676 | AH32: -0.09
AC33: 43.2 | AD33: 0.38 | AE33: 3.91 | AF33: 14.2 | AG33: 158.43831 | AH33: -0.02
AC34: 51 | AD34: 0.5 | AE34: 4.42 | AF34: 7.3 | AG34: 132.15272 | AH34: 0.07
AC35: 48.5 | AD35: 0.458 | AE35: 4.41 | AF35: 13.4 | AG35: 141.81128 | AH35: -0.27
AC36: 44.8 | AD36: 0.4 | AE36: 3.97 | AF36: 10.4 | AG36: 152.61572 | AH36: 0.23
AC37: 37.2 | AD37: 0.318 | AE37: 3.01 | AF37: 13.6 | AG37: 188.68579 | AH37: -0.69
AC38: 39.6 | AD38: 0.284 | AE38: 3.35 | AF38: 16.3 | AG38: 173.30746 | AH38: -0.55
AC39: 43.1 | AD39: 0.385 | AE39: 3.87 | AF39: 8.8 | AG39: 158.46515 | AH39: -0.29
AC40: 43.4 | AD40: 0.364 | AE40: 3.8 | AF40: 16.3 | AG40: 162.94738 | AH40: -0.1
...

Sheet 16-19 Outcomes
B1: SCENARIO PLANNER - 16-19 OUTCOMES | AC1: Academic Value Added | AD1: APS per Academic Entry | AE1: Sustained Progression | AF1: Value Added Gap | AG1: Funding per Academic Qualification Point | AY1: Published Domain | AZ1: PubX | BA1: PubY | BB1: WhatX | BC1: WhatY | BD1: -1 | BE1: 1.2246468e-16 | BF1: -0.70710678 | BG1: 0.70710678 | BH1: 6.123234e-17 | BI1: 1 | BJ1: 0.70710678 | BK1: 0.70710678
AC2: -0.13 | AD2: 32.5 | AE2: 0.65 | AF2: 0.06 | AG2: 205.93667 | AI2: 0.3 | AY2: 92.9 | AZ2: 0 | BA2: 0 | BB2: 0 | BC2: 0 | BD2: -0.99922904 | BE2: 0.039259816 | BF2: -0.67880075 | BG2: 0.73432251 | BH2: 0.039259816 | BI2: 0.99922904 | BJ2: 0.73432251 | BK2: 0.67880075
AC3: 0.39 | AD3: 37.4 | AE3: 0.8 | AF3: 0.29 | AG3: 144.64354 | AI3: 0.25 | AY3: Q1 | AZ3: =COS(RADIANS(IF($AY$2<$AY$4,180-MAX(0,MIN(1,($AY$2-($AY$4-($AY$6-$AY$4)))/($AY$4-($AY$4-($AY$6-$AY$4)))))*45,IF($AY$2<$AY$6,135-(($AY$2-$AY$4)/($AY$6-$AY$4))*45,IF($AY$2<$AY$8,90-(($AY$2-$AY$6)/($AY$8-$AY$6))*45,45-MAX(0,MIN(1,($AY$2-$AY$8)/(($AY$8+($AY$8-$AY$6))-$AY$8)))*45)))))*0.72 -> -0.52025502 | BA3: =SIN(RADIANS(IF($AY$2<$AY$4,180-MAX(0,MIN(1,($AY$2-($AY$4-($AY$6-$AY$4)))/($AY$4-($AY$4-($AY$6-$AY$4)))))*45,IF($AY$2<$AY$6,135-(($AY$2-$AY$4)/($AY$6-$AY$4))*45,IF($AY$2<$AY$8,90-(($AY$2-$AY$6)/($AY$8-$AY$6))*45,45-MAX(0,MIN(1,($AY$2-$AY$8)/(($AY$8+($AY$8-$AY$6))-$AY$8)))*45)))))*0.72 -> 0.49772956 | BB3: =COS(RADIANS(IF($AY$11<$AY$4,180-MAX(0,MIN(1,($AY$11-($AY$4-($AY$6-$AY$4)))/($AY$4-($AY$4-($AY$6-$AY$4)))))*45,IF($AY$11<$AY$6,135-(($AY$11-$AY$4)/($AY$6-$AY$4))*45,IF($AY$11<$AY$8,90-(($AY$11-$AY$6)/($AY$8-$AY$6))*45,45-MAX(0,MIN(1,($AY$11-$AY$8)/(($AY$8+($AY$8-$AY$6))-$AY$8)))*45)))))*0.72 -> -0.31559256 | BC3: =SIN(RADIANS(IF($AY$11<$AY$4,180-MAX(0,MIN(1,($AY$11-($AY$4-($AY$6-$AY$4)))/($AY$4-($AY$4-($AY$6-$AY$4)))))*45,IF($AY$11<$AY$6,135-(($AY$11-$AY$4)/($AY$6-$AY$4))*45,IF($AY$11<$AY$8,90-(($AY$11-$AY$6)/($AY$8-$AY$6))*45,45-MAX(0,MIN(1,($AY$11-$AY$8)/(($AY$8+($AY$8-$AY$6))-$AY$8)))*45)))))*0.72 -> 0.64714862 | BD3: -0.99691733 | BE3: 0.078459096 | BF3: -0.64944805 | BG3: 0.76040597 | BH3: 0.078459096 | BI3: 0.99691733 | BJ3: 0.76040597 | BK3: 0.64944805
B4: Violet High School EDUCATIONAL OUTCOMES (16–19) | L4: Measure | M4: Published | N4: What If | O4: Published Index | P4: What If Index | Q4: Index Change | AC4: -0.15 | AD4: 32.04 | AE4: 0.79 | AF4: 0.58 | AG4: 163.61113 | AI4: 0.2 | AY4: 93.1 | BD4: -0.99306846 | BE4: 0.1175374 | BF4: -0.61909395 | BG4: 0.78531693 | BH4: 0.1175374 | BI4: 0.99306846 | BJ4: 0.78531693 | BK4: 0.61909395
AC5: -0.54 | AD5: 21.63 | AE5: 0.34 | AF5: 0.88 | AG5: 264.56523 | AI5: 0.15 | AY5: Q2 | BD5: -0.98768834 | BE5: 0.15643447 | BF5: -0.58778525 | BG5: 0.80901699 | BH5: 0.15643447 | BI5: 0.98768834 | BJ5: 0.80901699 | BK5: 0.58778525
L6: Academic Value Added | M6: -0.15 | N6: 0 | O6: 92.216981 | P6: =100+((((COUNT($AC$2:$AC$107)+1)+1)/2-(1+COUNTIFS($AC$2:$AC$107,"<>",$AC$2:$AC$107,">"&N6)))/(COUNT($AC$2:$AC$107)+1)*50) -> 104.95283 | Q6: =P6-O6 -> 12.735849 | AC6: 0.01 | AD6: 30.16 | AE6: 0.67 | AF6: 0.2 | AG6: 149.33633 | AI6: 0.1 | AY6: 100.2 | BD6: -0.98078528 | BE6: 0.19509032 | BF6: -0.55557023 | BG6: 0.83146961 | BH6: 0.19509032 | BI6: 0.98078528 | BJ6: 0.83146961 | BK6: 0.55557023
L7: APS per Academic Entry | M7: 31.92 | N7: 0 | O7: 93.160377 | P7: =100+((((COUNT($AD$2:$AD$107)+1)+1)/2-(1+COUNTIFS($AD$2:$AD$107,"<>",$AD$2:$AD$107,">"&N7)))/(COUNT($AD$2:$AD$107)+1)*50) -> 75.235849 | Q7: =P7-O7 -> -17.924528 | AC7: -0.09 | AD7: 31.07 | AE7: 0.61 | AF7: 0.14 | AG7: 184.82628 | AY7: Q3 | BD7: -0.97236992 | BE7: 0.23344536 | BF7: -0.52249856 | BG7: 0.85264016 | BH7: 0.23344536 | BI7: 0.97236992 | BJ7: 0.85264016 | BK7: 0.52249856
B8: PUBLISHED INDEX | F8: WHAT IF INDEX | L8: Sustained Progression | M8: 0.72 | N8: 0 | O8: 105.60748 | P8: =100+((((COUNT($AE$2:$AE$107)+1)+1)/2-(1+COUNTIFS($AE$2:$AE$107,"<>",$AE$2:$AE$107,">"&N8)))/(COUNT($AE$2:$AE$107)+1)*50) -> 80.841121 | Q8: =P8-O8 -> -24.766355 | AC8: 0.2 | AD8: 37.21 | AE8: 0.63 | AF8: 0.21 | AG8: 143.70599 | AY8: 108 | BD8: -0.96245524 | BE8: 0.27144045 | BF8: -0.48862124 | BG8: 0.87249601 | BH8: 0.27144045 | BI8: 0.96245524 | BJ8: 0.87249601 | BK8: 0.48862124
L9: Value-Added Gap | M9: 0.53 | N9: 0 | O9: 83.726415 | P9: =100+((((COUNT($AF$2:$AF$107)+1)+1)/2-(1+COUNTIFS($AF$2:$AF$107,"<>",$AF$2:$AF$107,"<"&ABS(N9))))/(COUNT($AF$2:$AF$107)+1)*50) -> 124.76415 | Q9: =P9-O9 -> 41.037736 | AC9: 0.26 | AD9: 32.52 | AE9: 0.73 | AF9: 0.51 | AG9: 159.34258 | BD9: -0.95105652 | BE9: 0.30901699 | BF9: -0.4539905 | BG9: 0.89100652 | BH9: 0.30901699 | BI9: 0.95105652 | BJ9: 0.89100652 | BK9: 0.4539905
B10: 92.9 | F10: =ROUND($AY$11,1) -> 96.1 | L10: Funding / Academic Qualification Pt | M10: 167.00983 | N10: 0 | O10: 98.177083 | P10: =100+((((COUNT($AG$2:$AG$107)+1)+1)/2-(1+COUNTIFS($AG$2:$AG$107,"<>",$AG$2:$AG$107,"<"&N10)))/(COUNT($AG$2:$AG$107)+1)*50) -> 124.73958 | Q10: =P10-O10 -> 26.5625 | AC10: 0.14 | AD10: 38.26 | AE10: 0.92 | AF10: 0.17 | AG10: 150.88166 | AY10: What If Domain | BD10: -0.93819134 | BE10: 0.34611706 | BF10: -0.41865974 | BG10: 0.90814317 | BH10: 0.34611706 | BI10: 0.93819134 | BJ10: 0.90814317 | BK10: 0.41865974
AC11: -0.4 | AD11: 31.04 | AE11: 0.65 | AF11: 0.04 | AG11: 170.91255 | AY11: =$AY$2+$AI$2*Q6+$AI$3*Q7+$AI$4*Q8+$AI$5*Q9+$AI$6*Q10 -> 96.098262 | BD11: -0.92387953 | BE11: 0.38268343 | BF11: -0.38268343 | BG11: 0.92387953 | BH11: 0.38268343 | BI11: 0.92387953 | BJ11: 0.92387953 | BK11: 0.38268343
AC12: -0.31 | AD12: 34.19 | AE12: 0.74 | AF12: 0 | AG12: 156.1073 | BD12: -0.90814317 | BE12: 0.41865974 | BF12: -0.34611706 | BG12: 0.93819134 | BH12: 0.41865974 | BI12: 0.90814317 | BJ12: 0.93819134 | BK12: 0.34611706
B13: =IF(B10<93.1,"Bottom Quartile",IF(B10<100.2,"3rd Quartile",IF(B10<108,"2nd Quartile","Top Quartile"))) -> Bottom Quartile | F13: =IF(F10<93.1,"Bottom Quartile",IF(F10<100.2,"3rd Quartile",IF(F10<108,"2nd Quartile","Top Quartile"))) -> 3rd Quartile | AC13: -0.43 | AD13: 31.95 | AE13: 0.85 | AF13: 0.47 | AG13: 172.92405 | BD13: -0.89100652 | BE13: 0.4539905 | BF13: -0.30901699 | BG13: 0.95105652 | BH13: 0.4539905 | BI13: 0.89100652 | BJ13: 0.95105652 | BK13: 0.30901699
L14: Change only the yellow What If cells. The peer distribution remains fixed. The school is reranked against the approved peer values using the agreed measure-specific rule, then the component and domain Indices update automatically. To reset a measure, copy its Published figure back into the yellow What If cell. | AC14: -0.08 | AD14: 33.63 | AE14: 0.73 | AF14: 0 | AG14: 157.16287 | BD14: -0.87249601 | BE14: 0.48862124 | BF14: -0.27144045 | BG14: 0.96245524 | BH14: 0.48862124 | BI14: 0.87249601 | BJ14: 0.96245524 | BK14: 0.27144045
AC15: -0.55 | AD15: 23.77 | AE15: 0 | AF15: 0.41 | AG15: 247.94744 | BD15: -0.85264016 | BE15: 0.52249856 | BF15: -0.23344536 | BG15: 0.97236992 | BH15: 0.52249856 | BI15: 0.85264016 | BJ15: 0.97236992 | BK15: 0.23344536
B16: CHANGE FROM PUBLISHED | AC16: -0.35 | AD16: 28.72 | AE16: 0.59 | AF16: 0.25 | AG16: 183.69861 | BD16: -0.83146961 | BE16: 0.55557023 | BF16: -0.19509032 | BG16: 0.98078528 | BH16: 0.55557023 | BI16: 0.83146961 | BJ16: 0.98078528 | BK16: 0.19509032
AC17: -0.19 | AD17: 30.74 | AE17: 0.66 | AF17: 0.05 | AG17: 166.50058 | BD17: -0.80901699 | BE17: 0.58778525 | BF17: -0.15643447 | BG17: 0.98768834 | BH17: 0.58778525 | BI17: 0.80901699 | BJ17: 0.98768834 | BK17: 0.15643447
B18: =ROUND($AY$11-92.9,1) -> 3.2 | AC18: -0.29 | AD18: 28.24 | AE18: 0.73 | AF18: 0.04 | AG18: 203.002 | BD18: -0.78531693 | BE18: 0.61909395 | BF18: -0.1175374 | BG18: 0.99306846 | BH18: 0.61909395 | BI18: 0.78531693 | BJ18: 0.99306846 | BK18: 0.1175374
AC19: 0.07 | AD19: 39.51 | AE19: 0.88 | AF19: 0.26 | AG19: 146.10692 | BD19: -0.76040597 | BE19: 0.64944805 | BF19: -0.078459096 | BG19: 0.99691733 | BH19: 0.64944805 | BI19: 0.76040597 | BJ19: 0.99691733 | BK19: 0.078459096
L20: Source linkage Published domain Index and quartile thresholds: approved Violet High School 2026 Dashboard. Component inputs, fixed peer distributions and reranking rules: approved GAUGED What If calculation engine. | AC20: -0.33 | AD20: 35.47 | AE20: 0 | AF20: 0.56 | BD20: -0.73432251 | BE20: 0.67880075 | BF20: -0.039259816 | BG20: 0.99922904 | BH20: 0.67880075 | BI20: 0.73432251 | BJ20: 0.99922904 | BK20: 0.039259816
AC21: -0.18 | AD21: 35.02 | AE21: 0.74 | AF21: 0.37 | AG21: 178.99628 | BD21: -0.70710678 | BE21: 0.70710678 | BF21: 6.123234e-17 | BG21: 1 | BH21: 0.70710678 | BI21: 0.70710678 | BJ21: 1 | BK21: 0
B22: BOTTOM | D22: 3RD | F22: 2ND | H22: TOP | AC22: -0.04 | AD22: 36.25 | AE22: 0.85 | AF22: 0.57 | AG22: 166.0385
AC23: 0.19 | AD23: 33.71 | AE23: 0.7 | AF23: 0.1 | AG23: 157.18701
AC24: -0.02 | AD24: 32.7 | AE24: 0.66 | AF24: 0.22 | AG24: 162.02466
B25: 100 = Peer Median | AC25: 0.11 | AD25: 32.07 | AE25: 0.58 | AF25: 1.02 | AG25: 178.15502
AC26: -0.05 | AD26: 35.35 | AE26: 0.7 | AF26: 1.3 | AG26: 149.97532
AC27: 0.16 | AD27: 36.97 | AE27: 0.75 | AF27: 0.28 | AG27: 149.61902
AC28: -0.19 | AD28: 32.01 | AE28: 0.66 | AF28: 0.42 | AG28: 179.4964
AC29: -0.12 | AD29: 37.41 | AE29: 0.77 | AF29: 0.18 | AG29: 139.9293
AC30: -0.24 | AD30: 25.59 | AE30: 0 | AF30: 0.61
AC31: 0.06 | AD31: 32.67 | AE31: 0.8 | AF31: 0.04 | AG31: 171.08051
AC32: -0.15 | AD32: 29.88 | AE32: 0.69 | AF32: 0.66 | AG32: 169.19735
AC33: -0.06 | AD33: 33.78 | AE33: 0.69 | AF33: 0.58 | AG33: 160.08985
AC34: -0.12 | AD34: 34.5 | AE34: 0.66 | AF34: 0.32 | AG34: 164.53704
AC35: 0.13 | AD35: 33.95 | AE35: 0.67 | AF35: 0.3 | AG35: 166.69833
AC36: -0.35 | AD36: 30.55 | AE36: 0.76 | AF36: 0.73 | AG36: 169.17948
AC37: 0.51 | AD37: 33.53 | AE37: 0.62 | AF37: 0.04 | AG37: 145.64725
AC38: -0.34 | AD38: 25.47 | AE38: 0.49 | AF38: 0.11 | AG38: 200.68468
AC39: 0.11 | AD39: 33.67 | AE39: 0.74 | AF39: 0.5 | AG39: 158.71532
AC40: -0.09 | AD40: 28.97 | AE40: 0.67 | AF40: 0.61 | AG40: 192.02032
...

Sheet Overall Impact
B1: SCENARIO PLANNER - OVERALL IMPACT | AY1: Published Overall | AZ1: PubX | BA1: PubY | BB1: WhatX | BC1: WhatY | BD1: -1 | BE1: 1.2246468e-16 | BF1: -0.70710678 | BG1: 0.70710678 | BH1: 6.123234e-17 | BI1: 1 | BJ1: 0.70710678 | BK1: 0.70710678
AY2: 98.3 | AZ2: 0 | BA2: 0 | BB2: 0 | BC2: 0 | BD2: -0.99922904 | BE2: 0.039259816 | BF2: -0.67880075 | BG2: 0.73432251 | BH2: 0.039259816 | BI2: 0.99922904 | BJ2: 0.73432251 | BK2: 0.67880075
AY3: Q1 | AZ3: =COS(RADIANS(IF($AY$2<$AY$4,180-MAX(0,MIN(1,($AY$2-($AY$4-($AY$6-$AY$4)))/($AY$4-($AY$4-($AY$6-$AY$4)))))*45,IF($AY$2<$AY$6,135-(($AY$2-$AY$4)/($AY$6-$AY$4))*45,IF($AY$2<$AY$8,90-(($AY$2-$AY$6)/($AY$8-$AY$6))*45,45-MAX(0,MIN(1,($AY$2-$AY$8)/(($AY$8+($AY$8-$AY$6))-$AY$8)))*45)))))*0.72 -> -0.24920428 | BA3: =SIN(RADIANS(IF($AY$2<$AY$4,180-MAX(0,MIN(1,($AY$2-($AY$4-($AY$6-$AY$4)))/($AY$4-($AY$4-($AY$6-$AY$4)))))*45,IF($AY$2<$AY$6,135-(($AY$2-$AY$4)/($AY$6-$AY$4))*45,IF($AY$2<$AY$8,90-(($AY$2-$AY$6)/($AY$8-$AY$6))*45,45-MAX(0,MIN(1,($AY$2-$AY$8)/(($AY$8+($AY$8-$AY$6))-$AY$8)))*45)))))*0.72 -> 0.67549776 | BB3: =COS(RADIANS(IF($AY$11<$AY$4,180-MAX(0,MIN(1,($AY$11-($AY$4-($AY$6-$AY$4)))/($AY$4-($AY$4-($AY$6-$AY$4)))))*45,IF($AY$11<$AY$6,135-(($AY$11-$AY$4)/($AY$6-$AY$4))*45,IF($AY$11<$AY$8,90-(($AY$11-$AY$6)/($AY$8-$AY$6))*45,45-MAX(0,MIN(1,($AY$11-$AY$8)/(($AY$8+($AY$8-$AY$6))-$AY$8)))*45)))))*0.72 -> 0.065935658 | BC3: =SIN(RADIANS(IF($AY$11<$AY$4,180-MAX(0,MIN(1,($AY$11-($AY$4-($AY$6-$AY$4)))/($AY$4-($AY$4-($AY$6-$AY$4)))))*45,IF($AY$11<$AY$6,135-(($AY$11-$AY$4)/($AY$6-$AY$4))*45,IF($AY$11<$AY$8,90-(($AY$11-$AY$6)/($AY$8-$AY$6))*45,45-MAX(0,MIN(1,($AY$11-$AY$8)/(($AY$8+($AY$8-$AY$6))-$AY$8)))*45)))))*0.72 -> 0.71697454 | BD3: -0.99691733 | BE3: 0.078459096 | BF3: -0.64944805 | BG3: 0.76040597 | BH3: 0.078459096 | BI3: 0.99691733 | BJ3: 0.76040597 | BK3: 0.64944805
B4: Violet High School OVERALL PERFORMANCE | L4: Area | M4: Published | N4: What If | O4: Change | AY4: 96.1 | BD4: -0.99306846 | BE4: 0.1175374 | BF4: -0.61909395 | BG4: 0.78531693 | BH4: 0.1175374 | BI4: 0.99306846 | BJ4: 0.78531693 | BK4: 0.61909395
AY5: Q2 | BD5: -0.98768834 | BE5: 0.15643447 | BF5: -0.58778525 | BG5: 0.80901699 | BH5: 0.15643447 | BI5: 0.98768834 | BJ5: 0.80901699 | BK5: 0.58778525
L6: Teaching Capacity | M6: 99 | N6: ='Teaching Capacity'!$AY$11 -> 108.34579 | O6: =N6-M6 -> 9.3457944 | AY6: 100.1 | BD6: -0.98078528 | BE6: 0.19509032 | BF6: -0.55557023 | BG6: 0.83146961 | BH6: 0.19509032 | BI6: 0.98078528 | BJ6: 0.83146961 | BK6: 0.55557023
L7: Workforce Resilience | M7: 98.9 | N7: ='Workforce Resilience'!$AY$11 -> 124.3717 | O7: =N7-M7 -> 25.471698 | AY7: Q3 | BD7: -0.97236992 | BE7: 0.23344536 | BF7: -0.52249856 | BG7: 0.85264016 | BH7: 0.23344536 | BI7: 0.97236992 | BJ7: 0.85264016 | BK7: 0.52249856
B8: PUBLISHED INDEX | F8: WHAT IF INDEX | L8: Financial Stewardship | M8: 99.7 | N8: ='Financial Stewardship'!$AY$11 -> 86.475701 | O8: =N8-M8 -> -13.224299 | AY8: 103.6 | BD8: -0.96245524 | BE8: 0.27144045 | BF8: -0.48862124 | BG8: 0.87249601 | BH8: 0.27144045 | BI8: 0.96245524 | BJ8: 0.87249601 | BK8: 0.48862124
L9: Educational Outcomes - KS4 | M9: 98.8 | N9: ='KS4 Outcomes'!$AY$11 -> 91.930558 | O9: =N9-M9 -> -6.8694421 | BD9: -0.95105652 | BE9: 0.30901699 | BF9: -0.4539905 | BG9: 0.89100652 | BH9: 0.30901699 | BI9: 0.95105652 | BJ9: 0.89100652 | BK9: 0.4539905
B10: 98.3 | F10: =ROUND($AY$11,1) -> 100.5 | L10: Educational Outcomes - 16-19 | M10: 92.9 | N10: ='16-19 Outcomes'!$AY$11 -> 96.098262 | O10: =N10-M10 -> 3.198262 | AY10: What If Overall | BD10: -0.93819134 | BE10: 0.34611706 | BF10: -0.41865974 | BG10: 0.90814317 | BH10: 0.34611706 | BI10: 0.93819134 | BJ10: 0.90814317 | BK10: 0.41865974
AY11: =98.3+25%*('Teaching Capacity'!$AY$11-99)+15%*('Workforce Resilience'!$AY$11-98.9)+25%*('Financial Stewardship'!$AY$11-99.7)+35%*(50%*('KS4 Outcomes'!$AY$11-98.8)+50%*('16-19 Outcomes'!$AY$11-92.9)) -> 100.50867 | BD11: -0.92387953 | BE11: 0.38268343 | BF11: -0.38268343 | BG11: 0.92387953 | BH11: 0.38268343 | BI11: 0.92387953 | BJ11: 0.92387953 | BK11: 0.38268343
BD12: -0.90814317 | BE12: 0.41865974 | BF12: -0.34611706 | BG12: 0.93819134 | BH12: 0.41865974 | BI12: 0.90814317 | BJ12: 0.93819134 | BK12: 0.34611706
B13: =IF(B10<96.1,"Bottom Quartile",IF(B10<100.1,"3rd Quartile",IF(B10<103.6,"2nd Quartile","Top Quartile"))) -> 3rd Quartile | F13: =IF(F10<96.1,"Bottom Quartile",IF(F10<100.1,"3rd Quartile",IF(F10<103.6,"2nd Quartile","Top Quartile"))) -> 2nd Quartile | BD13: -0.89100652 | BE13: 0.4539905 | BF13: -0.30901699 | BG13: 0.95105652 | BH13: 0.4539905 | BI13: 0.89100652 | BJ13: 0.95105652 | BK13: 0.30901699
L14: This page contains no inputs. It summarises the combined effect of all changes made on the five performance-area tabs. | BD14: -0.87249601 | BE14: 0.48862124 | BF14: -0.27144045 | BG14: 0.96245524 | BH14: 0.48862124 | BI14: 0.87249601 | BJ14: 0.96245524 | BK14: 0.27144045
BD15: -0.85264016 | BE15: 0.52249856 | BF15: -0.23344536 | BG15: 0.97236992 | BH15: 0.52249856 | BI15: 0.85264016 | BJ15: 0.97236992 | BK15: 0.23344536
B16: CHANGE FROM PUBLISHED | BD16: -0.83146961 | BE16: 0.55557023 | BF16: -0.19509032 | BG16: 0.98078528 | BH16: 0.55557023 | BI16: 0.83146961 | BJ16: 0.98078528 | BK16: 0.19509032
BD17: -0.80901699 | BE17: 0.58778525 | BF17: -0.15643447 | BG17: 0.98768834 | BH17: 0.58778525 | BI17: 0.80901699 | BJ17: 0.98768834 | BK17: 0.15643447
B18: =ROUND($AY$11-98.3,1) -> 2.2 | BD18: -0.78531693 | BE18: 0.61909395 | BF18: -0.1175374 | BG18: 0.99306846 | BH18: 0.61909395 | BI18: 0.78531693 | BJ18: 0.99306846 | BK18: 0.1175374
BD19: -0.76040597 | BE19: 0.64944805 | BF19: -0.078459096 | BG19: 0.99691733 | BH19: 0.64944805 | BI19: 0.76040597 | BJ19: 0.99691733 | BK19: 0.078459096
BD20: -0.73432251 | BE20: 0.67880075 | BF20: -0.039259816 | BG20: 0.99922904 | BH20: 0.67880075 | BI20: 0.73432251 | BJ20: 0.99922904 | BK20: 0.039259816
BD21: -0.70710678 | BE21: 0.70710678 | BF21: 6.123234e-17 | BG21: 1 | BH21: 0.70710678 | BI21: 0.70710678 | BJ21: 1 | BK21: 0
B22: BOTTOM | D22: 3RD | F22: 2ND | H22: TOP
B25: 100 = Peer Median

Sheet Licence & Use
A1: Licence & Use
A3: © 2026 GAUGED. All rights reserved.
A5: This workbook is licensed for use by the purchasing school, academy or Trust.
A7: The workbook may be used internally and shared with the organisation’s governors, trustees, auditors, internal auditors and professional advisers where this supports the organisation’s normal governance, financial or operational activities.
A9: The workbook, including its analytical structure, benchmarking methodology, formulas, calculations, report formats and associated materials, remains the intellectual property of GAUGED.
A11: It may not be:
A13: * resold or commercially redistributed;
A15: * copied or adapted to create a competing benchmarking or analytical product;
A17: * reverse-engineered for the purpose of reproducing GAUGED’s methodology or analytical models;
A19: * made publicly available without permission from GAUGED.
A21: The underlying public-sector source data remains subject to the terms and licensing arrangements of the relevant data provider.
A23: For permissions or licensing enquiries, please contact GAUGED at gauged.co.uk.
